BEGIN:VCALENDAR
X-WR-TIMEZONE:Europe/Berlin
X-WR-CALNAME:rbb-Kalender
VERSION:2.0
METHOD:PUBLISH
CALSCALE:GREGORIAN
PRODID:rbb-CMS DAY
BEGIN:VEVENT
CLASS:PUBLIC
URL:http://www.rbb-online.de/content/rbb/rbb/zibb/vip/beitraege/journalist-tobias-huerter.html
DTEND:20131121T192500
DTSTART:20131121T183000
UID:/content/rbb/rbb/zibb/vip/beitraege/journalist-tobias-huerter
DTSTAMP:20140406T002806
DESCRIPTION:Tobias Hürter hat ihn erlebt - den Moment, in dem alles vorbei zu sein scheint. Bei einer Bergtour wäre er 500 Meter in die Tiefe gestürzt, wenn nicht ein Felsvorsprung nach 37 Metern seinen Fall gestoppt hätte. Am Donnerstag war er zu Gast bei zibb.\n\n\n
SUMMARY:Zu Gast: Journalist Tobias Hürter 
END:VEVENT
END:VCALENDAR
