BEGIN:VCALENDAR
X-WR-TIMEZONE:Europe/Berlin
X-WR-CALNAME:rbb-Kalender
VERSION:2.0
METHOD:PUBLISH
CALSCALE:GREGORIAN
PRODID:rbb-CMS DAY
BEGIN:VEVENT
CLASS:PUBLIC
URL:http://www.rbb-online.de/content/rbb/rbb/zibb/vip/beitraege/judithkeil.html
DTEND:20140120T192500
DTSTART:20140120T183000
UID:/content/rbb/rbb/zibb/vip/beitraege/judithkeil
DTSTAMP:20140406T002715
DESCRIPTION:Die Filmemacherinnen Judith Keil und Antje Kruska sind für ihre feinfühligen Beobachtungen in Dokumentar- und Spielfilmen bekannt. Ihr neuestes Projekt "Land in Sicht" kommt jetzt in die Kinos und wurde bereits 2013 mit dem Goethe-Dokumentarfilmpreis ausgezeichnet.\n\n\n
SUMMARY:Judith Keil & Antje Kruska 
END:VEVENT
END:VCALENDAR
