BEGIN:VCALENDAR
X-WR-TIMEZONE:Europe/Berlin
X-WR-CALNAME:rbb-Kalender
VERSION:2.0
METHOD:PUBLISH
CALSCALE:GREGORIAN
PRODID:rbb-CMS DAY
BEGIN:VEVENT
CLASS:PUBLIC
URL:http://www.rbb-online.de/content/rbb/rbb/zibb/vip/beitraege/judy_winter.html
DTEND:20130614T183000
DTSTART:20130614T183000
UID:/content/rbb/rbb/zibb/vip/beitraege/judy_winter
DTSTAMP:20140406T235723
DESCRIPTION:Die großartige Theater- und Filmschauspielerin schlüpft wieder in die Rolle einer deutschen Diva. Nach Marlene Dietrich spielt Judy Winter nun die Knef. Und zwar demnächst im Theater am Kurfürstendam. Über die Rolle spricht sie bei zibb.\n
SUMMARY:Judy Winter
END:VEVENT
END:VCALENDAR
