BEGIN:VCALENDAR
X-WR-TIMEZONE:Europe/Berlin
X-WR-CALNAME:rbb-Kalender
VERSION:2.0
METHOD:PUBLISH
CALSCALE:GREGORIAN
PRODID:rbb-CMS DAY
BEGIN:VEVENT
CLASS:PUBLIC
URL:http://www.rbb-online.de/content/rbb/rbb/zibb/vip/beitraege/juergen-drews.html
DTEND:20131025T192500
DTSTART:20131025T183000
UID:/content/rbb/rbb/zibb/vip/beitraege/juergen-drews
DTSTAMP:20140407T003202
DESCRIPTION:Mit Hits wie "Bett im Kornfeld" und "Wenn die Wunderkerzen brennen" feierte er in den vergangenen Jahrzehnten große Erfolge. Im zwei-Jahres-Rythmus gibt es vom Schlagerstar etwas Neues auf die Ohren. Auf der zibb-Couch stellt er sein neues Album vor.\n\n\n
SUMMARY:Jürgen Drews
END:VEVENT
END:VCALENDAR
