BEGIN:VCALENDAR
X-WR-TIMEZONE:Europe/Berlin
X-WR-CALNAME:rbb-Kalender
VERSION:2.0
METHOD:PUBLISH
CALSCALE:GREGORIAN
PRODID:rbb-CMS DAY
BEGIN:VEVENT
CLASS:PUBLIC
URL:http://www.rbb-online.de/content/rbb/rbb/zibb/vip/beitraege/karoline-schuch.html
DTEND:20140123T192500
DTSTART:20140123T183000
UID:/content/rbb/rbb/zibb/vip/beitraege/karoline-schuch
DTSTAMP:20140406T001644
DESCRIPTION:Nach Filmen wie "7 Zwerge", "Zweiohrküken" oder "Man tut was man kann" ist die Schauspielerin Karoline Schuch jetzt wieder auf der Kinoleinwand zu sehen.\n
SUMMARY:Karoline Schuch
END:VEVENT
END:VCALENDAR
