BEGIN:VCALENDAR
X-WR-TIMEZONE:Europe/Berlin
X-WR-CALNAME:rbb-Kalender
VERSION:2.0
METHOD:PUBLISH
CALSCALE:GREGORIAN
PRODID:rbb-CMS DAY
BEGIN:VEVENT
CLASS:PUBLIC
URL:http://www.rbb-online.de/content/rbb/rbb/zibb/vip/beitraege/knutelstermann.html
DTEND:20131028T192500
DTSTART:20131028T183000
UID:/content/rbb/rbb/zibb/vip/beitraege/knutelstermann
DTSTAMP:20140407T002522
DESCRIPTION:Knut Elstermann, der bekannte rbb-Filmkritiker, hat ein neues Buch geschrieben. Nach "Klosterkinder" und "Früher war ich Filmkind", hat er nun ein Buch geschrieben über die Straße, in der er in den 60er Jahren aufgewachsen ist.\n
SUMMARY:Knut Elstermann
END:VEVENT
END:VCALENDAR
