BEGIN:VCALENDAR
X-WR-TIMEZONE:Europe/Berlin
X-WR-CALNAME:rbb-Kalender
VERSION:2.0
METHOD:PUBLISH
CALSCALE:GREGORIAN
PRODID:rbb-CMS DAY
BEGIN:VEVENT
CLASS:PUBLIC
URL:http://www.rbb-online.de/content/rbb/rbb/zibb/vip/beitraege/lea-mueller.html
DTEND:20131223T192600
DTSTART:20131223T183000
UID:/content/rbb/rbb/zibb/vip/beitraege/lea-mueller
DTSTAMP:20140405T235136
DESCRIPTION:Die Jungschauspielerin Lea Müller ist zwar erst 14 Jahre alt, kann aber schon auf mehrere Filmprojekte zurückblicken. Jetzt ist Lea in der Hauptrolle des neuen vom rbb produzierten Märchenfilms "Das Mädchen mit den Schwefelhölzern" zu sehen.\n\n\n
SUMMARY:Lea Müller
END:VEVENT
END:VCALENDAR
