BEGIN:VCALENDAR
X-WR-TIMEZONE:Europe/Berlin
X-WR-CALNAME:rbb-Kalender
VERSION:2.0
METHOD:PUBLISH
CALSCALE:GREGORIAN
PRODID:rbb-CMS DAY
BEGIN:VEVENT
CLASS:PUBLIC
URL:http://www.rbb-online.de/content/rbb/rbb/zibb/vip/beitraege/lord_mouse_and_the.html
DTEND:20130708T183000
DTSTART:20130708T183000
UID:/content/rbb/rbb/zibb/vip/beitraege/lord_mouse_and_the
DTSTAMP:20140407T000054
DESCRIPTION:Wenn sich die Kalypso Katzen auf den Auftritt vorbereiten, dann ist das meistens schon für sich eine Party. Und wenn dann alle mit Lord Mouse auf der Bühne stehen, dann gibt es kein Halten mehr. Am Montag waren sie zu Gast im zibb-Sommergarten.\n
SUMMARY:Lord Mouse and the Kalypso Katz
END:VEVENT
END:VCALENDAR
