BEGIN:VCALENDAR
X-WR-TIMEZONE:Europe/Berlin
X-WR-CALNAME:rbb-Kalender
VERSION:2.0
METHOD:PUBLISH
CALSCALE:GREGORIAN
PRODID:rbb-CMS DAY
BEGIN:VEVENT
CLASS:PUBLIC
URL:http://www.rbb-online.de/content/rbb/rbb/zibb/vip/beitraege/marion-kracht.html
DTEND:20131202T192500
DTSTART:20131202T183000
UID:/content/rbb/rbb/zibb/vip/beitraege/marion-kracht
DTSTAMP:20140405T234711
DESCRIPTION:Sie spielte schon als 14-Jährige in den "Buddenbrooks" und wurde der Fernsehnation bekannt als Tina in "Diese Drombuschs".\n\n\n
SUMMARY:Marion Kracht
END:VEVENT
END:VCALENDAR
