BEGIN:VCALENDAR
X-WR-TIMEZONE:Europe/Berlin
X-WR-CALNAME:rbb-Kalender
VERSION:2.0
METHOD:PUBLISH
CALSCALE:GREGORIAN
PRODID:rbb-CMS DAY
BEGIN:VEVENT
CLASS:PUBLIC
URL:http://www.rbb-online.de/content/rbb/rbb/zibb/vip/beitraege/martin-gallop.html
DTEND:20131125T192500
DTSTART:20131125T183000
UID:/content/rbb/rbb/zibb/vip/beitraege/martin-gallop
DTSTAMP:20140406T000105
DESCRIPTION:Der kanadische Sänger und Songschreiber Martin Gallop kam mit 21 Jahren das erste Mal nach Europa. Nachdem er zunächst als Licht - und Tontechniker arbeitete, veröffentlichte er 2002 sein erstes Album "How much is the world?". Bei zibb stellt er sein nunmehr viertes Album vor.\n\n\n
SUMMARY:Martin Gallop
END:VEVENT
END:VCALENDAR
