BEGIN:VCALENDAR
X-WR-TIMEZONE:Europe/Berlin
X-WR-CALNAME:rbb-Kalender
VERSION:2.0
METHOD:PUBLISH
CALSCALE:GREGORIAN
PRODID:rbb-CMS DAY
BEGIN:VEVENT
CLASS:PUBLIC
URL:http://www.rbb-online.de/content/rbb/rbb/zibb/vip/beitraege/maybebop.html
DTEND:20130815T192500
DTSTART:20130815T183000
UID:/content/rbb/rbb/zibb/vip/beitraege/maybebop
DTSTAMP:20140407T000846
DESCRIPTION:Seit über 10 Jahren touren Maybebop mit deutschsprachigem A-capella-Gesang durchs In- und Ausland. \n\n\n\n\n
SUMMARY:Maybebop
END:VEVENT
END:VCALENDAR
