BEGIN:VCALENDAR
X-WR-TIMEZONE:Europe/Berlin
X-WR-CALNAME:rbb-Kalender
VERSION:2.0
METHOD:PUBLISH
CALSCALE:GREGORIAN
PRODID:rbb-CMS DAY
BEGIN:VEVENT
CLASS:PUBLIC
URL:http://www.rbb-online.de/content/rbb/rbb/zibb/vip/beitraege/michael_barenboim.html
DTEND:20130718T183000
DTSTART:20130718T183000
UID:/content/rbb/rbb/zibb/vip/beitraege/michael_barenboim
DTSTAMP:20140407T000933
DESCRIPTION:Wenn die Politik schon nicht fähig ist, Frieden und Verständigung zu schaffen, so sollte es wenigstens Künstlern gelingen. Vor 14 Jahren vereinte Michael Barenboim im West Eastern Divan Orcheter unter anderem Musiker aus Israel und arabischen Ländern.
SUMMARY:Michael Barenboim und Nassib Ahmadieh
END:VEVENT
END:VCALENDAR
