BEGIN:VCALENDAR
X-WR-TIMEZONE:Europe/Berlin
X-WR-CALNAME:rbb-Kalender
VERSION:2.0
METHOD:PUBLISH
CALSCALE:GREGORIAN
PRODID:rbb-CMS DAY
BEGIN:VEVENT
CLASS:PUBLIC
URL:http://www.rbb-online.de/content/rbb/rbb/zibb/vip/beitraege/michael_martin.html
DTEND:20130611T183000
DTSTART:20130611T183000
UID:/content/rbb/rbb/zibb/vip/beitraege/michael_martin
DTSTAMP:20140407T000924
DESCRIPTION:Der Weltenbummler stellt sein neues Buch vor: "In der Welt zuhause. Zwanzig Geschichten von Neugier, Eigensinn und Abenteuer". Aber Achtung: Fernweh ist ansteckend – und unheilbar!\n
SUMMARY:Michael Martin
END:VEVENT
END:VCALENDAR
