BEGIN:VCALENDAR
X-WR-TIMEZONE:Europe/Berlin
X-WR-CALNAME:rbb-Kalender
VERSION:2.0
METHOD:PUBLISH
CALSCALE:GREGORIAN
PRODID:rbb-CMS DAY
BEGIN:VEVENT
CLASS:PUBLIC
URL:http://www.rbb-online.de/content/rbb/rbb/zibb/vip/beitraege/natalia-avelon.html
DTEND:20130920T192500
DTSTART:20130920T183000
UID:/content/rbb/rbb/zibb/vip/beitraege/natalia-avelon
DTSTAMP:20140406T042323
DESCRIPTION:Sie ist eine erfolgreiche und attraktive Schauspielerin. Natalia Avelon war in\n\n„Das wilde Leben“ als Uschi Obermaier zu sehen oder zuvor in  „Der Schuh des Manitu“, „Marienhof“ und „Sturm der Liebe“. Am Freitag war sie zu Gast bei zibb.\n\n\n
SUMMARY:Natalia Avelon
END:VEVENT
END:VCALENDAR
