BEGIN:VCALENDAR
X-WR-TIMEZONE:Europe/Berlin
X-WR-CALNAME:rbb-Kalender
VERSION:2.0
METHOD:PUBLISH
CALSCALE:GREGORIAN
PRODID:rbb-CMS DAY
BEGIN:VEVENT
CLASS:PUBLIC
URL:http://www.rbb-online.de/content/rbb/rbb/zibb/vip/beitraege/oliver-mommsen.html
DTEND:20140117T192500
DTSTART:20140117T183000
UID:/content/rbb/rbb/zibb/vip/beitraege/oliver-mommsen
DTSTAMP:20140405T234810
DESCRIPTION:Den meisten Zuschauern ist Oliver Mommsen als Bremer "Tatort"-Kommissar Nils Stedefreund bekannt. Seit 2001 ermittelt der gebürtige Düsseldorfer an der Seite von Sabine Postel.\n
SUMMARY:Oliver Mommsen
END:VEVENT
END:VCALENDAR
