BEGIN:VCALENDAR
X-WR-TIMEZONE:Europe/Berlin
X-WR-CALNAME:rbb-Kalender
VERSION:2.0
METHOD:PUBLISH
CALSCALE:GREGORIAN
PRODID:rbb-CMS DAY
BEGIN:VEVENT
CLASS:PUBLIC
URL:http://www.rbb-online.de/content/rbb/rbb/zibb/vip/beitraege/oliver_wnuk.html
DTEND:20130529T183000
DTSTART:20130529T183000
UID:/content/rbb/rbb/zibb/vip/beitraege/oliver_wnuk
DTSTAMP:20140406T231314
DESCRIPTION:Nach seinem von Kritikern und Lesern hochgelobten Debütroman legt Oliver Wnuk jetzt mit "Luftholen" seinen zweiten Roman vor. Auf der zibb-Couch stellt er das Buch vor.\n
SUMMARY:Oliver Wnuk
END:VEVENT
END:VCALENDAR
