BEGIN:VCALENDAR
X-WR-TIMEZONE:Europe/Berlin
X-WR-CALNAME:rbb-Kalender
VERSION:2.0
METHOD:PUBLISH
CALSCALE:GREGORIAN
PRODID:rbb-CMS DAY
BEGIN:VEVENT
CLASS:PUBLIC
URL:http://www.rbb-online.de/content/rbb/rbb/zibb/vip/beitraege/peter_jordan.html
DTEND:20130430T183000
DTSTART:20130430T183000
UID:/content/rbb/rbb/zibb/vip/beitraege/peter_jordan
DTSTAMP:20140406T231027
DESCRIPTION:Neben seinen Bühnenengagements nimmt Peter Jordan auch immer wieder Rollen in Filmen an, sowohl im Fernsehen als auch im Kino.\n
SUMMARY:Peter Jordan
END:VEVENT
END:VCALENDAR
