BEGIN:VCALENDAR
X-WR-TIMEZONE:Europe/Berlin
X-WR-CALNAME:rbb-Kalender
VERSION:2.0
METHOD:PUBLISH
CALSCALE:GREGORIAN
PRODID:rbb-CMS DAY
BEGIN:VEVENT
CLASS:PUBLIC
URL:http://www.rbb-online.de/content/rbb/rbb/zibb/vip/beitraege/petra_anwar.html
DTEND:20130429T183000
DTSTART:20130429T183000
UID:/content/rbb/rbb/zibb/vip/beitraege/petra_anwar
DTSTAMP:20140406T231049
DESCRIPTION:Warum sich Petra Anwar so sicher war, dass sie Ärztin werden wollte, weiß sie selbst nicht. Aber sie erinnert sich, dass sie schon als Kind den Ärmsten der Armen helfen wollte.\n
SUMMARY:Petra Anwar
END:VEVENT
END:VCALENDAR
