BEGIN:VCALENDAR
X-WR-TIMEZONE:Europe/Berlin
X-WR-CALNAME:rbb-Kalender
VERSION:2.0
METHOD:PUBLISH
CALSCALE:GREGORIAN
PRODID:rbb-CMS DAY
BEGIN:VEVENT
CLASS:PUBLIC
URL:http://www.rbb-online.de/content/rbb/rbb/zibb/vip/beitraege/philip-hochmair.html
DTEND:20131002T192500
DTSTART:20131002T183000
UID:/content/rbb/rbb/zibb/vip/beitraege/philip-hochmair
DTSTAMP:20140406T215854
DESCRIPTION:Schauspieler Philipp Hochmair kommt mit dem mehrfach preisgekrönten Film "Der Glanz des Tages" in die deutschen Kinos.\n\n\n
SUMMARY:Philipp Hochmair
END:VEVENT
END:VCALENDAR
