BEGIN:VCALENDAR
X-WR-TIMEZONE:Europe/Berlin
X-WR-CALNAME:rbb-Kalender
VERSION:2.0
METHOD:PUBLISH
CALSCALE:GREGORIAN
PRODID:rbb-CMS DAY
BEGIN:VEVENT
CLASS:PUBLIC
URL:http://www.rbb-online.de/content/rbb/rbb/zibb/vip/beitraege/puhdys.html
DTEND:20131205T192500
DTSTART:20131205T183000
UID:/content/rbb/rbb/zibb/vip/beitraege/puhdys
DTSTAMP:20140405T235156
DESCRIPTION:"Heilige Nacht" heißt die Weihnachts-CD der Puhdys. Eine der Überraschungen auf dem neuen Album: Kimmy Hertrampf, die 15-jährige Tochter von Quaster, singt gemeinsam mit ihrem Vater einen der schönsten Songs. Damit setzt sie die Tradition fort, den familieneigenen Nachwuchs in die musikalische Arbeit einzubinden. \n\n\n
SUMMARY:Die Puhdys
END:VEVENT
END:VCALENDAR
