BEGIN:VCALENDAR
X-WR-TIMEZONE:Europe/Berlin
X-WR-CALNAME:rbb-Kalender
VERSION:2.0
METHOD:PUBLISH
CALSCALE:GREGORIAN
PRODID:rbb-CMS DAY
BEGIN:VEVENT
CLASS:PUBLIC
URL:http://www.rbb-online.de/content/rbb/rbb/zibb/vip/beitraege/quarter.html
DTEND:20130822T192500
DTSTART:20130822T183000
UID:/content/rbb/rbb/zibb/vip/beitraege/quarter
DTSTAMP:20140407T001450
DESCRIPTION:Quarter, das sind Sänger und Pianist Flo, die Brüder Christoph und Joe an Gitarre und Bass sowie Drummer Micha. Mit „Everything Changes“ veröffentlichen Quarter nun ihr Debütalbum, auf dem neun weitere emotionale Songs ihren Platz gefunden.\n\n\n
SUMMARY:Quarter
END:VEVENT
END:VCALENDAR
