BEGIN:VCALENDAR
X-WR-TIMEZONE:Europe/Berlin
X-WR-CALNAME:rbb-Kalender
VERSION:2.0
METHOD:PUBLISH
CALSCALE:GREGORIAN
PRODID:rbb-CMS DAY
BEGIN:VEVENT
CLASS:PUBLIC
URL:http://www.rbb-online.de/content/rbb/rbb/zibb/vip/beitraege/rainhard_fendrich.html
DTEND:20130513T183000
DTSTART:20130513T183000
UID:/content/rbb/rbb/zibb/vip/beitraege/rainhard_fendrich
DTSTAMP:20140406T231208
DESCRIPTION:Das Motto der neuen CD des oesterreichischen Liedermachers Rainhard Fendrich lässt aufhorchen: "Besser wird's nicht...". Bei zibb erklärt er, was es mit diesem Titel auf sich hat.\n
SUMMARY:Rainhard Fendrich
END:VEVENT
END:VCALENDAR
