BEGIN:VCALENDAR
X-WR-TIMEZONE:Europe/Berlin
X-WR-CALNAME:rbb-Kalender
VERSION:2.0
METHOD:PUBLISH
CALSCALE:GREGORIAN
PRODID:rbb-CMS DAY
BEGIN:VEVENT
CLASS:PUBLIC
URL:http://www.rbb-online.de/content/rbb/rbb/zibb/vip/beitraege/rolf-lautenschlaeger.html
DTEND:20140403T192500
DTSTART:20140403T183000
UID:/content/rbb/rbb/zibb/vip/beitraege/rolf-lautenschlaeger
DTSTAMP:20140405T013234
DESCRIPTION:Das Tempelhofer Feld ist ein städtischer und zugleich wilder Freiraum: ein Wiesenmeer einerseits, ein topographischer Rohdiamant für eine weitere zentrale Stadtentwicklung andererseits. Am 25. Mai wird über die Zukunft des Tempelhofer Feldes per Volksentscheid entschieden.\n\n\n
SUMMARY:Rolf Lautenschläger 
END:VEVENT
END:VCALENDAR
