BEGIN:VCALENDAR
X-WR-TIMEZONE:Europe/Berlin
X-WR-CALNAME:rbb-Kalender
VERSION:2.0
METHOD:PUBLISH
CALSCALE:GREGORIAN
PRODID:rbb-CMS DAY
BEGIN:VEVENT
CLASS:PUBLIC
URL:http://www.rbb-online.de/content/rbb/rbb/zibb/vip/beitraege/ruth-reinecke.html
DTEND:20130925T192500
DTSTART:20130925T183000
UID:/content/rbb/rbb/zibb/vip/beitraege/ruth-reinecke
DTSTAMP:20140407T003028
DESCRIPTION:Ruth Reinecke ist ein bekanntes Gesicht im deutschen Fernsehen und Theater. Bis heute gehört sie dem Ensemble des Maxim Gorki Theaters Berlin an. Zu ihren Erfolgen zählten unter anderem Rollen in "Polizeiruf 110" und "Tatort". \n
SUMMARY:Ruth Reinecke
END:VEVENT
END:VCALENDAR
