BEGIN:VCALENDAR
X-WR-TIMEZONE:Europe/Berlin
X-WR-CALNAME:rbb-Kalender
VERSION:2.0
METHOD:PUBLISH
CALSCALE:GREGORIAN
PRODID:rbb-CMS DAY
BEGIN:VEVENT
CLASS:PUBLIC
URL:http://www.rbb-online.de/content/rbb/rbb/zibb/vip/beitraege/schauspieler-florian-stetter.html
DTEND:20140210T192500
DTSTART:20140210T183000
UID:/content/rbb/rbb/zibb/vip/beitraege/schauspieler-florian-stetter
DTSTAMP:20140406T002533
DESCRIPTION:Florian Stetter - ein Gipfelstürmer unter den jungen Schauspielern. Nach der Schauspielschule spielt der gebürtige Münchner in Kinofilmen wie Sophie Scholl oder die Freunde der Freunde von Dominik Graf mit.\n
SUMMARY:Florian Stetter
END:VEVENT
END:VCALENDAR
