BEGIN:VCALENDAR
X-WR-TIMEZONE:Europe/Berlin
X-WR-CALNAME:rbb-Kalender
VERSION:2.0
METHOD:PUBLISH
CALSCALE:GREGORIAN
PRODID:rbb-CMS DAY
BEGIN:VEVENT
CLASS:PUBLIC
URL:http://www.rbb-online.de/content/rbb/rbb/zibb/vip/beitraege/schygulla.html
DTEND:20140203T192500
DTSTART:20140203T183000
UID:/content/rbb/rbb/zibb/vip/beitraege/schygulla
DTSTAMP:20140406T000154
DESCRIPTION:Ihr rasanter Aufstieg ist eng verbunden mit Rainer Werner Fassbinder. Sie war seine Muse, und gilt noch immer als das Gesicht des Neuen deutschen Films, der Grundstein für die Karriere einer außergewöhnlichen Schauspielerin war. Drei Jahrzehnte lebte sie in Frankreich - und zieht nun nach Berlin, mit neuen Projekten im Gepäck.\n
SUMMARY:Hanna Schygulla 
END:VEVENT
END:VCALENDAR
