BEGIN:VCALENDAR
X-WR-TIMEZONE:Europe/Berlin
X-WR-CALNAME:rbb-Kalender
VERSION:2.0
METHOD:PUBLISH
CALSCALE:GREGORIAN
PRODID:rbb-CMS DAY
BEGIN:VEVENT
CLASS:PUBLIC
URL:http://www.rbb-online.de/content/rbb/rbb/zibb/vip/beitraege/silly.html
DTEND:20130408T183000
DTSTART:20130408T183000
UID:/content/rbb/rbb/zibb/vip/beitraege/silly
DTSTAMP:20140406T231220
DESCRIPTION:Drei Jahre nach der Veröffentlichung des ersten gemeinsamen Albums "Alles rot" im März 2010 von Anna Loos, Ritchie Barton, Uwe Hassbecker und Jäcki Reznicek, legen Silly jetzt das zweite gemeinsame Werk "Kopf an Kopf" vor.
SUMMARY:Silly
END:VEVENT
END:VCALENDAR
