BEGIN:VCALENDAR
X-WR-TIMEZONE:Europe/Berlin
X-WR-CALNAME:rbb-Kalender
VERSION:2.0
METHOD:PUBLISH
CALSCALE:GREGORIAN
PRODID:rbb-CMS DAY
BEGIN:VEVENT
CLASS:PUBLIC
URL:http://www.rbb-online.de/content/rbb/rbb/zibb/vip/beitraege/stefan-verra.html
DTEND:20131219T192500
DTSTART:20131219T183000
UID:/content/rbb/rbb/zibb/vip/beitraege/stefan-verra
DTSTAMP:20140406T000844
DESCRIPTION:Stefan Verra ist einer der gefragtesten Körpersprache-Experten im deutschen Sprachraum. Jährlich begeistert er über 15.000 Teilnehmer von Europa bis China. Über sein neues Programm spricht er auf der zibb-Couch.\n\n\n
SUMMARY:Stefan Verra
END:VEVENT
END:VCALENDAR
