BEGIN:VCALENDAR
X-WR-TIMEZONE:Europe/Berlin
X-WR-CALNAME:rbb-Kalender
VERSION:2.0
METHOD:PUBLISH
CALSCALE:GREGORIAN
PRODID:rbb-CMS DAY
BEGIN:VEVENT
CLASS:PUBLIC
URL:http://www.rbb-online.de/content/rbb/rbb/zibb/vip/beitraege/stefan_glowacz_und.html
DTEND:20130424T183000
DTSTART:20130424T183000
UID:/content/rbb/rbb/zibb/vip/beitraege/stefan_glowacz_und
DTSTAMP:20140406T231155
DESCRIPTION:Ende Februar 2010 startet der Superstar der Sportkletter-Szene Stefan Glowacz gemeinsam mit seinen langjährigen Partnern Kurt Albert, Begründer der Rotpunkt-Kletterbewegung, und HolgerHeuber zu einer Expedition ins Ungewisse. Das Ziel ist klar, der Weg dorthin (noch) nicht
SUMMARY:Stefan Glowacz und Holger Heber
END:VEVENT
END:VCALENDAR
