BEGIN:VCALENDAR
X-WR-TIMEZONE:Europe/Berlin
X-WR-CALNAME:rbb-Kalender
VERSION:2.0
METHOD:PUBLISH
CALSCALE:GREGORIAN
PRODID:rbb-CMS DAY
BEGIN:VEVENT
CLASS:PUBLIC
URL:http://www.rbb-online.de/content/rbb/rbb/zibb/vip/beitraege/stipe-erceg.html
DTEND:20131126T192500
DTSTART:20131126T183000
UID:/content/rbb/rbb/zibb/vip/beitraege/stipe-erceg
DTSTAMP:20140406T000944
DESCRIPTION:Stipe Erceg kam mit seinen Eltern im Alter von vier Jahren aus Kroatien nach Deutschland. Hans Weingartner besetzte mit ihm den erfolgreichen Spielfilm "Die fetten Jahre sind vorbei", der 2004 im Wettbewerb in Cannes lief. Jetzt spielt er in dem Film "Seegrund" an der Seite von Herbert Knaup im Ersten wieder einen seltsamen Typen.\n\n\n
SUMMARY:Stipe Erceg
END:VEVENT
END:VCALENDAR
