BEGIN:VCALENDAR
X-WR-TIMEZONE:Europe/Berlin
X-WR-CALNAME:rbb-Kalender
VERSION:2.0
METHOD:PUBLISH
CALSCALE:GREGORIAN
PRODID:rbb-CMS DAY
BEGIN:VEVENT
CLASS:PUBLIC
URL:http://www.rbb-online.de/content/rbb/rbb/zibb/vip/beitraege/thalheim.html
DTEND:20140121T192500
DTSTART:20140121T183000
UID:/content/rbb/rbb/zibb/vip/beitraege/thalheim
DTSTAMP:20140406T002220
DESCRIPTION:Nach langer Zeit und einigen harten Schicksalsschlägen spielt die Liedermacherin Barbara Thalheim wieder in Berlin, nachdem sie im letzten Jahr ihr vierzigjähriges Bühnenjubiläum beging.\n
SUMMARY:Barbara Thalheim 
END:VEVENT
END:VCALENDAR
