BEGIN:VCALENDAR
X-WR-TIMEZONE:Europe/Berlin
X-WR-CALNAME:rbb-Kalender
VERSION:2.0
METHOD:PUBLISH
CALSCALE:GREGORIAN
PRODID:rbb-CMS DAY
BEGIN:VEVENT
CLASS:PUBLIC
URL:http://www.rbb-online.de/content/rbb/rbb/zibb/vip/beitraege/thomas-gumpert.html
DTEND:20140303T192500
DTSTART:20140303T183000
UID:/content/rbb/rbb/zibb/vip/beitraege/thomas-gumpert
DTSTAMP:20140405T235544
DESCRIPTION:Thomas Gumpert verkörperte fünf Jahre die Rolle des Johannes Graf von Lahnstein in der ARD-Soap "Verbotene Liebe". Neben vielen weiteren TV-Auftritten ist er auch regelmäßig im Theater zu sehen – so wie jetzt im Berliner Kriminal Theater:\n\n\n
SUMMARY:Thomas Gumpert
END:VEVENT
END:VCALENDAR
