BEGIN:VCALENDAR
X-WR-TIMEZONE:Europe/Berlin
X-WR-CALNAME:rbb-Kalender
VERSION:2.0
METHOD:PUBLISH
CALSCALE:GREGORIAN
PRODID:rbb-CMS DAY
BEGIN:VEVENT
CLASS:PUBLIC
URL:http://www.rbb-online.de/content/rbb/rbb/zibb/vip/beitraege/tilo_prueckner_gast.html
DTEND:20140314T192500
DTSTART:20140314T183000
UID:/content/rbb/rbb/zibb/vip/beitraege/tilo_prueckner_gast
DTSTAMP:20140406T002847
DESCRIPTION:Tilo Prückner brach sein Jurastudium ab, um in München Schauspiel zu studieren. Heute ist er unter anderem aus "Adelheid und ihre Mörder", Tatort oder "Iron Sky" für seine exzentrischen Charaktere bekannt.\n
SUMMARY:Tilo Prückner
END:VEVENT
END:VCALENDAR
