BEGIN:VCALENDAR
X-WR-TIMEZONE:Europe/Berlin
X-WR-CALNAME:rbb-Kalender
VERSION:2.0
METHOD:PUBLISH
CALSCALE:GREGORIAN
PRODID:rbb-CMS DAY
BEGIN:VEVENT
CLASS:PUBLIC
URL:http://www.rbb-online.de/content/rbb/rbb/zibb/vip/beitraege/tim-fischer.html
DTEND:20131004T192500
DTSTART:20131004T183000
UID:/content/rbb/rbb/zibb/vip/beitraege/tim-fischer
DTSTAMP:20140406T201655
DESCRIPTION:Tim Fischer präsentiert ab dem 08.10.13 anlässlich seines 25-jährigen Bühnenjubiläums einen brandneuen Konzertabend im Tipi am Kanzleramt.\n
SUMMARY:Tim Fischer
END:VEVENT
END:VCALENDAR
