BEGIN:VCALENDAR
X-WR-TIMEZONE:Europe/Berlin
X-WR-CALNAME:rbb-Kalender
VERSION:2.0
METHOD:PUBLISH
CALSCALE:GREGORIAN
PRODID:rbb-CMS DAY
BEGIN:VEVENT
CLASS:PUBLIC
URL:http://www.rbb-online.de/content/rbb/rbb/zibb/vip/beitraege/tim-renner.html
DTEND:20131015T192500
DTSTART:20131015T183000
UID:/content/rbb/rbb/zibb/vip/beitraege/tim-renner
DTSTAMP:20140406T040826
DESCRIPTION:Wer wissen will, wie die Musikindustrie tickt, muss Insider wie Tim Renner fragen: Er ist Kenner, Macher und einst mächtigster Mann der deutschen Branche.\n\nGemeinsam mit der Promoterin Sarah Wächter wirft er einen Blick hinter die Kulissen der Popwelt.\n\n\n
SUMMARY:Tim Renner und Sarah Wächter 
END:VEVENT
END:VCALENDAR
