BEGIN:VCALENDAR
X-WR-TIMEZONE:Europe/Berlin
X-WR-CALNAME:rbb-Kalender
VERSION:2.0
METHOD:PUBLISH
CALSCALE:GREGORIAN
PRODID:rbb-CMS DAY
BEGIN:VEVENT
CLASS:PUBLIC
URL:http://www.rbb-online.de/content/rbb/rbb/zibb/vip/beitraege/ulrich-gutmair.html
DTEND:20130812T192500
DTSTART:20130812T183000
UID:/content/rbb/rbb/zibb/vip/beitraege/ulrich-gutmair
DTSTAMP:20140407T000749
DESCRIPTION:In dem Buch "Die ersten Tage von Berlin" schreibt Ulrich Gutmair, wie Berlin nach dem Mauerfall zu neuem Leben erwachte. Künstler, Clubgründer und Hausbesetzer machten Berlin in den frühen neunziger Jahren zu einem Ort der Selbstverwirklichung.\n\n\n
SUMMARY:Ulrich Gutmair
END:VEVENT
END:VCALENDAR
