BEGIN:VCALENDAR
X-WR-TIMEZONE:Europe/Berlin
X-WR-CALNAME:rbb-Kalender
VERSION:2.0
METHOD:PUBLISH
CALSCALE:GREGORIAN
PRODID:rbb-CMS DAY
BEGIN:VEVENT
CLASS:PUBLIC
URL:http://www.rbb-online.de/content/rbb/rbb/zibb/vip/beitraege/veronika_fischer.html
DTEND:20130412T183000
DTSTART:20130412T183000
UID:/content/rbb/rbb/zibb/vip/beitraege/veronika_fischer
DTSTAMP:20140406T231348
DESCRIPTION:Seit den Siebzigerjahren schreibt Veronika Fischer Musikgeschichte. Ein Star in der DDR - ein Neuanfang im Westen. Stoff genug für ihre Autobiografie:„Das Lügenlied vom Glück" und damit ist sie jetzt bei zibb.
SUMMARY:Veronika Fischer
END:VEVENT
END:VCALENDAR
