BEGIN:VCALENDAR
X-WR-TIMEZONE:Europe/Berlin
X-WR-CALNAME:rbb-Kalender
VERSION:2.0
METHOD:PUBLISH
CALSCALE:GREGORIAN
PRODID:rbb-CMS DAY
BEGIN:VEVENT
CLASS:PUBLIC
URL:http://www.rbb-online.de/content/rbb/rbb/zibb/vip/beitraege/vickyleandros.html
DTEND:20131115T192500
DTSTART:20131115T183000
UID:/content/rbb/rbb/zibb/vip/beitraege/vickyleandros
DTSTAMP:20140405T235247
DESCRIPTION:Im Dezember geht Vicky Leandros mit glanzvollen Weihnachtsevents auf Tour. In der besinnlichen Kulisse ausgewählter Kirchen wird die beliebte Künstlerin mit der unverwechselbaren Stimme deutsche und internationale Weihnachtslieder singen.\n
SUMMARY:Zu Gast: Vicky Leandros 
END:VEVENT
END:VCALENDAR
