BEGIN:VCALENDAR
X-WR-TIMEZONE:Europe/Berlin
X-WR-CALNAME:rbb-Kalender
VERSION:2.0
METHOD:PUBLISH
CALSCALE:GREGORIAN
PRODID:rbb-CMS DAY
BEGIN:VEVENT
CLASS:PUBLIC
URL:http://www.rbb-online.de/content/rbb/rbb/zibb/vip/beitraege/viktoria_und_sergey.html
DTEND:20130710T183000
DTSTART:20130710T183000
UID:/content/rbb/rbb/zibb/vip/beitraege/viktoria_und_sergey
DTSTAMP:20140406T235851
DESCRIPTION:Die Weltklasse Tänzer Viktoria und Sergey Tatarenko sind seit 2002 verheiratet, seit 2008 tanzen sie gemeinsam - und das überaus erfolgreich. Ein Titel reiht sich an den nächsten.
SUMMARY:Viktoria und Sergey Tatarenko
END:VEVENT
END:VCALENDAR
