BEGIN:VCALENDAR
X-WR-TIMEZONE:Europe/Berlin
X-WR-CALNAME:rbb-Kalender
VERSION:2.0
METHOD:PUBLISH
CALSCALE:GREGORIAN
PRODID:rbb-CMS DAY
BEGIN:VEVENT
CLASS:PUBLIC
URL:http://www.rbb-online.de/content/rbb/rbb/zibb/vip/beitraege/wassilij-goron.html
DTEND:20140217T192500
DTSTART:20140217T183000
UID:/content/rbb/rbb/zibb/vip/beitraege/wassilij-goron
DTSTAMP:20140405T234325
DESCRIPTION:Als Wassilij Goron nur mit Blockflöte und Posaune im Gepäck nach Deutschland kam, hielt er sich lange Zeit mit Straßenmusik über Wasser.\n
SUMMARY:Wassilij Goron
END:VEVENT
END:VCALENDAR
