BEGIN:VCALENDAR
X-WR-TIMEZONE:Europe/Berlin
X-WR-CALNAME:rbb-Kalender
VERSION:2.0
METHOD:PUBLISH
CALSCALE:GREGORIAN
PRODID:rbb-CMS DAY
BEGIN:VEVENT
CLASS:PUBLIC
URL:http://www.rbb-online.de/content/rbb/rbb/zibb/vip/beitraege/wilson-d-michaelis-hans-kaul.html
DTEND:20140109T192500
DTSTART:20140109T183000
UID:/content/rbb/rbb/zibb/vip/beitraege/wilson-d-michaelis-hans-kaul
DTSTAMP:20140406T002235
DESCRIPTION:Am 5.Januar feierte „Motown – Die Legende“ Premiere im Theater am Kurfürstendamm. Wilson D. Michaels gehört zum Ensemble und Hans Kaul ist der musikalische Leiter des Stücks.\n
SUMMARY:Wilson D. Michaels und Hans Kaul
END:VEVENT
END:VCALENDAR
