BEGIN:VCALENDAR
X-WR-TIMEZONE:Europe/Berlin
X-WR-CALNAME:rbb-Kalender
VERSION:2.0
METHOD:PUBLISH
CALSCALE:GREGORIAN
PRODID:rbb-CMS DAY
BEGIN:VEVENT
CLASS:PUBLIC
URL:http://www.rbb-online.de/content/rbb/rbb/zibb/vip/beitraege/wlada.html
DTEND:20140318T192500
DTSTART:20140318T183000
UID:/content/rbb/rbb/zibb/vip/beitraege/wlada
DTSTAMP:20140406T000203
DESCRIPTION:Die 26-jährige Journalistin hat sich auf die Suche nach Liebesgeschichten in aller Welt gemacht. Ihre Reise führte sie über fünf Kontinente in Länder wie Ägypten, Iran, Laos, Kambodscha, China, Brasilien, Russland, die USA und die Türkei.\n
SUMMARY:Autorin Wlada Kolosowa
END:VEVENT
END:VCALENDAR
