BEGIN:VCALENDAR
X-WR-TIMEZONE:Europe/Berlin
X-WR-CALNAME:rbb-Kalender
VERSION:2.0
METHOD:PUBLISH
CALSCALE:GREGORIAN
PRODID:rbb-CMS DAY
BEGIN:VEVENT
CLASS:PUBLIC
URL:http://www.rbb-online.de/content/rbb/rbb/zibb/vip/beitraege/wochenendkrieger.html
DTEND:20130816T192500
DTSTART:20130816T183000
UID:/content/rbb/rbb/zibb/vip/beitraege/wochenendkrieger
DTSTAMP:20140407T001654
DESCRIPTION:"Wochenendkrieger" - Ein Film von Andreas Geiger. Mitten in unseren Wäldern führen zauberhafte Elfen und andere Fabelwesen einen berauschenden Kampf.\n\n\n\n
SUMMARY:Andreas Geiger und Dirk Neumann
END:VEVENT
END:VCALENDAR
