BEGIN:VCALENDAR
X-WR-TIMEZONE:Europe/Berlin
X-WR-CALNAME:rbb-Kalender
VERSION:2.0
METHOD:PUBLISH
CALSCALE:GREGORIAN
PRODID:rbb-CMS DAY
BEGIN:VEVENT
CLASS:PUBLIC
URL:http://www.rbb-online.de/content/rbb/rbb/zibb/vip/beitraege/zugast-sophie-wepper.html
DTEND:20131211T192500
DTSTART:20131211T183000
UID:/content/rbb/rbb/zibb/vip/beitraege/zugast-sophie-wepper
DTSTAMP:20140406T001534
DESCRIPTION:Am Donnerstag zeigt Das Erste um 20.15 Uhr eine neue Folge der erfolgreichen Krimireihe „Mord in bester Gesellschaft“ mit Sophie und Fritz Wepper in den Hauptrollen. Am Mittwoch war die junge Schauspielerein zu Gast bei zibb.\n\n\n
SUMMARY:Zu Gast: Sophie Wepper
END:VEVENT
END:VCALENDAR
