BEGIN:VCALENDAR
X-WR-TIMEZONE:Europe/Berlin
X-WR-CALNAME:rbb-Kalender
VERSION:2.0
METHOD:PUBLISH
CALSCALE:GREGORIAN
PRODID:rbb-CMS DAY
BEGIN:VEVENT
CLASS:PUBLIC
URL:http://www.rbb-online.de/content/rbb/rbb/zibb/vip/beitraege/zugastaxelranisch.html
DTEND:20131029T192500
DTSTART:20131029T183000
UID:/content/rbb/rbb/zibb/vip/beitraege/zugastaxelranisch
DTSTAMP:20140407T002337
DESCRIPTION:Axel Ranischs Abschlussfilm an der Filmhochschule wurde zum Publikumserfolg. Ein knappes Jahr nach "Dicke Mädchen" kommt jetzt die Tragikomödie "Ich fühl mich Disco" auf die Leinwand.\n
SUMMARY:Axel Ranisch
END:VEVENT
END:VCALENDAR
